BEGIN:VCALENDAR
VERSION:2.0
PRODID:Imitheme.com 
BEGIN:VEVENT
UID:20260424T1230192020845560
DTSTAMP;TZID=UTC:2026-04-24 12:30:19
DTSTART;TZID=America/Los_Angeles:20260424T123019
DTEND;TZID=America/Los_Angeles:20260424T123019
SUMMARY:Monthly Prayer Ministry (In Service)
LOCATION:
DESCRIPTION:
URL:https://junction10.com/eventer/monthly-prayer-ministry-in-service/
END:VEVENT
END:VCALENDAR
